BEGIN:VCALENDAR
VERSION:2.0
PRODID:-//Verwaltung des Elias-, Trinitatis- und Johannisfriedhofes zu Dresden - ECPv6.15.12.2//NONSGML v1.0//EN
CALSCALE:GREGORIAN
METHOD:PUBLISH
X-WR-CALNAME:Verwaltung des Elias-, Trinitatis- und Johannisfriedhofes zu Dresden
X-ORIGINAL-URL:https://johannisfriedhof-dresden.de
X-WR-CALDESC:Veranstaltungen für Verwaltung des Elias-, Trinitatis- und Johannisfriedhofes zu Dresden
REFRESH-INTERVAL;VALUE=DURATION:PT1H
X-Robots-Tag:noindex
X-PUBLISHED-TTL:PT1H
BEGIN:VTIMEZONE
TZID:Europe/Berlin
BEGIN:DAYLIGHT
TZOFFSETFROM:+0100
TZOFFSETTO:+0200
TZNAME:CEST
DTSTART:20240331T010000
END:DAYLIGHT
BEGIN:STANDARD
TZOFFSETFROM:+0200
TZOFFSETTO:+0100
TZNAME:CET
DTSTART:20241027T010000
END:STANDARD
BEGIN:DAYLIGHT
TZOFFSETFROM:+0100
TZOFFSETTO:+0200
TZNAME:CEST
DTSTART:20250330T010000
END:DAYLIGHT
BEGIN:STANDARD
TZOFFSETFROM:+0200
TZOFFSETTO:+0100
TZNAME:CET
DTSTART:20251026T010000
END:STANDARD
BEGIN:DAYLIGHT
TZOFFSETFROM:+0100
TZOFFSETTO:+0200
TZNAME:CEST
DTSTART:20260329T010000
END:DAYLIGHT
BEGIN:STANDARD
TZOFFSETFROM:+0200
TZOFFSETTO:+0100
TZNAME:CET
DTSTART:20261025T010000
END:STANDARD
END:VTIMEZONE
BEGIN:VEVENT
DTSTART;TZID=Europe/Berlin:20250827T143000
DTEND;TZID=Europe/Berlin:20250827T170000
DTSTAMP:20260423T193918
CREATED:20250117T143207Z
LAST-MODIFIED:20250403T123257Z
UID:3127-1756305000-1756314000@johannisfriedhof-dresden.de
SUMMARY:Trinitatisfriedhof: Kaffee\, Kuchen und Geschichte(n)
DESCRIPTION:Besuchen Sie uns! Trinken Sie eine Tasse Kaffee oder Tee\, kommen Sie mit uns ins Gespräch oder stöbern Sie durch unser Büchertauschregal. \n\n\n\nAm Ende unseres Kaffeenachmittages gegen 17 Uhr gibt es Geschichte(n)\, von oder über unsere Friedhöfe oder Wissenswertes aus Archiven\, lassen Sie sich überraschen und seien Sie gespannt. Kleine Führungen sind ebenfalls in der Konzeption.
URL:https://johannisfriedhof-dresden.de/veranstaltung/offener-mittwoch-im-begegnungszentrum-3/
LOCATION:Begegnungszentrum Trinitatisfriedhof\, Fiedlerstraße 1\, Dresden\, Sachsen\, 01307\, Deutschland
CATEGORIES:Kaffee Kuchen und Geschichte(n),Trinitatisfriedhof
ATTACH;FMTTYPE=image/jpeg:https://johannisfriedhof-dresden.de/wp-content/uploads/2025/02/kaffee-kuchen-geschichten.jpg
END:VEVENT
BEGIN:VEVENT
DTSTART;TZID=Europe/Berlin:20250827T163000
DTEND;TZID=Europe/Berlin:20250827T173000
DTSTAMP:20260423T193918
CREATED:20250122T145011Z
LAST-MODIFIED:20250122T145014Z
UID:3374-1756312200-1756315800@johannisfriedhof-dresden.de
SUMMARY:Ein Tagebuch mit zugeklebten Seiten. Hans Christian Andersen – eine biografische Skizze
DESCRIPTION:Ein Vortrag im Begegnungszentrum mit Lutz Reike vom Kügelgenhaus – dem Museum der Dresdner Romantik
URL:https://johannisfriedhof-dresden.de/veranstaltung/offener-mittwoch-im-begegnungszentrum-3-2/
LOCATION:Begegnungszentrum Trinitatisfriedhof\, Fiedlerstraße 1\, Dresden\, Sachsen\, 01307\, Deutschland
CATEGORIES:Kaffee Kuchen und Geschichte(n),Trinitatisfriedhof
ATTACH;FMTTYPE=image/jpeg:https://johannisfriedhof-dresden.de/wp-content/uploads/2025/01/veranstaltung-hca01.jpg
END:VEVENT
END:VCALENDAR