BEGIN:VCALENDAR
VERSION:2.0
PRODID:-//Verwaltung des Elias-, Trinitatis- und Johannisfriedhofes zu Dresden - ECPv6.15.12.2//NONSGML v1.0//EN
CALSCALE:GREGORIAN
METHOD:PUBLISH
X-ORIGINAL-URL:https://johannisfriedhof-dresden.de
X-WR-CALDESC:Veranstaltungen für Verwaltung des Elias-, Trinitatis- und Johannisfriedhofes zu Dresden
REFRESH-INTERVAL;VALUE=DURATION:PT1H
X-Robots-Tag:noindex
X-PUBLISHED-TTL:PT1H
BEGIN:VTIMEZONE
TZID:Europe/Berlin
BEGIN:DAYLIGHT
TZOFFSETFROM:+0100
TZOFFSETTO:+0200
TZNAME:CEST
DTSTART:20240331T010000
END:DAYLIGHT
BEGIN:STANDARD
TZOFFSETFROM:+0200
TZOFFSETTO:+0100
TZNAME:CET
DTSTART:20241027T010000
END:STANDARD
BEGIN:DAYLIGHT
TZOFFSETFROM:+0100
TZOFFSETTO:+0200
TZNAME:CEST
DTSTART:20250330T010000
END:DAYLIGHT
BEGIN:STANDARD
TZOFFSETFROM:+0200
TZOFFSETTO:+0100
TZNAME:CET
DTSTART:20251026T010000
END:STANDARD
BEGIN:DAYLIGHT
TZOFFSETFROM:+0100
TZOFFSETTO:+0200
TZNAME:CEST
DTSTART:20260329T010000
END:DAYLIGHT
BEGIN:STANDARD
TZOFFSETFROM:+0200
TZOFFSETTO:+0100
TZNAME:CET
DTSTART:20261025T010000
END:STANDARD
END:VTIMEZONE
BEGIN:VEVENT
DTSTART;TZID=Europe/Berlin:20250921T130000
DTEND;TZID=Europe/Berlin:20250921T180000
DTSTAMP:20260423T193955
CREATED:20250318T103005Z
LAST-MODIFIED:20250318T103145Z
UID:1044-1758459600-1758477600@johannisfriedhof-dresden.de
SUMMARY:Johannisfriedhof: Tag des Friedhofs
DESCRIPTION:Wir begrüßen Sie ab 13 Uhr in unserer Feierhalle!An dem Stand der Friedhofsverwaltung können Sie sich zu verschiedenen Themen informieren\, unsere Friedhofsgärtner geben gern Auskünfte in gärtnerischen Angelegenheiten.Ein herzliches Willkommen bei frisch gebackenem Kuchen und Kaffee.Zahlreiche Städte und Gemeinden beteiligen sich Jahr für Jahr am dritten Septemberwochenende am „Tag des Friedhofs“. Viele Aktionen zeigen die Geschichte und Tradition einer gewachsenen Friedhofskultur vor Ort auf und bieten die Gelegenheit\, sich dem Thema Friedhof mit unterschiedlichen thematischen Schwerpunkten zu nähern.Neben den Bereichen der Religion\, Kultur und Historie sind der Dialog und das lebendige Miteinander wichtige Elemente des „Tages des Friedhofs“.Unsere Friedhöfe sind ganz besondere Orte in Dresden. Man kann dort nicht nur trauern und Trost finden – sie bieten Ruhe und Raum zum Entspannen\, lassen Menschen Hoffnung schöpfen und neuen Mut gewinnen. Trauernde finden hier einen geschützten Rahmen\, um sich von den Verstorbenen zu verabschieden und ihrer zu gedenken.Die Veranstaltungen sind an diesem Tag kostenfrei. Wir bitten um Spenden für unsere Förderprojekte. \n\n\n\nProgramm\n\n\n\nJohannisfriedhof\, 14 Uhr – Treffpunkt an der Friedhofskapelle \n\n\n\nZum Steinerweichen – gefährdete und gerettete GrabdenkmälerEs ist augenfällig – nicht alle Grabmäler aus Stein scheinen für die Ewigkeit gemacht zu sein. Vielfältige Schadensbilder\, sei es an Grabmalen aus Kalk- oder Sandstein\, aus Marmor oder Granit kann man auf dem Johannisfriedhof entdecken. Dabei gibt es nicht nur „den“ Sand- oder Kalkstein\, „den“ Marmor oder Granit\, sondern viele verschiedene Sorten mit unterschiedlichen Eigenschaften. Welche Gesteine sich für die Herstellung von Grabmalen eignen\, wie man mit ihnen umgeht\, welche Maßnahmen der Restaurierung und Konservierung man anwenden kann und wie man überhaupt den meist mehrere hunderte Kilogramm schweren Werksteinen „zu Leibe“ rückt\, erfährt man während dieser Führung.Eine steinige Spurensuche mit der Restauratorin Dana Krause\, dem Gesteinskundler Martin Kaden und dem Steinmetz Thomas Thiel.Dauer ca. 60 Minuten \n\n\n\nVortrag und Gespräch 16 Uhr in der Feierhalle„Erdgeschichte auf Dresdner Friedhöfen — eine andere Sicht auf Grabsteine“Die Grabsteine auf unseren Friedhöfen erzählen ganz vielfältige Geschichte(n)\, jedoch nicht nur über die Bestatteten oder die Handwerkerinnen und Handwerker sowie Künstlerinnen und Künstler. Die gesellschaftlichen Umstände spiegelten und spiegeln sich auch im Gebrauch der unterschiedlicher Gesteinssorten für Grabmale wider.Mit Prof. Dr. Jan-Michael Lange\, Honorarprofessor an der Technischen Universität Bergakademie Freiberg und Mitglied der Senckenberg Naturhistorische Sammlungen Dresden Tauchen Sie ein in die Erdgeschichte auf Dresdner Friedhöfen und gewinnen so eine ganz andere Sicht auf die Grabsteine.Dauer ca. 45 Minuten
URL:https://johannisfriedhof-dresden.de/veranstaltung/johannisfriedhof-tag-des-friedhofs-2/
LOCATION:Johannisfriedhof Feierhalle (Wallotkapelle)\, Wehlener Straße 13\, Dresden\, Sachsen\, 01279\, Deutschland
CATEGORIES:Johannisfriedhof,Tag des Friedhofs
ATTACH;FMTTYPE=image/jpeg:https://johannisfriedhof-dresden.de/wp-content/uploads/2022/03/2024-09.jpg
END:VEVENT
END:VCALENDAR