BEGIN:VCALENDAR
VERSION:2.0
PRODID:-//Verwaltung des Elias-, Trinitatis- und Johannisfriedhofes zu Dresden - ECPv6.15.12.2//NONSGML v1.0//EN
CALSCALE:GREGORIAN
METHOD:PUBLISH
X-ORIGINAL-URL:https://johannisfriedhof-dresden.de
X-WR-CALDESC:Veranstaltungen für Verwaltung des Elias-, Trinitatis- und Johannisfriedhofes zu Dresden
REFRESH-INTERVAL;VALUE=DURATION:PT1H
X-Robots-Tag:noindex
X-PUBLISHED-TTL:PT1H
BEGIN:VTIMEZONE
TZID:Europe/Berlin
BEGIN:DAYLIGHT
TZOFFSETFROM:+0100
TZOFFSETTO:+0200
TZNAME:CEST
DTSTART:20240331T010000
END:DAYLIGHT
BEGIN:STANDARD
TZOFFSETFROM:+0200
TZOFFSETTO:+0100
TZNAME:CET
DTSTART:20241027T010000
END:STANDARD
BEGIN:DAYLIGHT
TZOFFSETFROM:+0100
TZOFFSETTO:+0200
TZNAME:CEST
DTSTART:20250330T010000
END:DAYLIGHT
BEGIN:STANDARD
TZOFFSETFROM:+0200
TZOFFSETTO:+0100
TZNAME:CET
DTSTART:20251026T010000
END:STANDARD
BEGIN:DAYLIGHT
TZOFFSETFROM:+0100
TZOFFSETTO:+0200
TZNAME:CEST
DTSTART:20260329T010000
END:DAYLIGHT
BEGIN:STANDARD
TZOFFSETFROM:+0200
TZOFFSETTO:+0100
TZNAME:CET
DTSTART:20261025T010000
END:STANDARD
END:VTIMEZONE
BEGIN:VEVENT
DTSTART;TZID=Europe/Berlin:20251204T190000
DTEND;TZID=Europe/Berlin:20251204T210000
DTSTAMP:20260423T073917
CREATED:20251120T130418Z
LAST-MODIFIED:20251201T134422Z
UID:3700-1764874800-1764882000@johannisfriedhof-dresden.de
SUMMARY:Festliche Buchvorstellung in der Betlehemkirche
DESCRIPTION:Einlass ab 18.30 Uhr Musikalische Einstimmung / Auftakt: Christian Mögel an E-Piano/OrgelBegrüßung und Vorstellung der Herausgeber: Pfarrer Dr. Hans-Peter HasseGrußwort des Stadtbezirksamtsleiters: Christian BarthSaxophon Intermezzo: Carsten ReupkeWarum ein Buch über Tolkewitz? Buchvorstellung durch den Ortschronisten Martin KadenAus dem Notenschrank des Krematoriums Christian Mögel an der Orgel75 Jahre Grundsteinlegung und Buchpremiere Pfarrer Dr. Hans-Peter HasseZwischenspiel am E-Piano: Christian MögelDank des Verlages an Mitwirkende und Förderer Holger Friebel/Elbhang-Kurier-VerlagSaxophon Ausklang: Carsten ReupkeAnschließend: Treff bei Glühwein (mit oder ohne Alkohol)Buchverkauf Ausgabe von Belegexemplaren an Autoren und Förderer \n\n\n\n \n\n\n\nTolkewitz – Illustrierte Ortsgeschichte1349 – 2025Bildband mit 464 Seiten · mehr als 1.000 Abbildungen Festeinband mit Fadenheftung · 4-Farb-DruckEinleitender Essay · Ortsrundgang · ArchäologieGeschichte · Gesellschaft · Bauen und WohnenArbeiten · Natur · Anhang mit RegisternPreis: 30 Euro \n\n\n\n\n\n\n\n\n\n\n\n\n\n\n\nDas Buch können Sie in unserer Friedhofsverwaltung erwerben oder direkt hier im Shop bestellen!
URL:https://johannisfriedhof-dresden.de/veranstaltung/festliche-buchvorstellung-in-der-betlehemkirche/
LOCATION:Bethlehemkirche\, Marienberger Straße 65\, Dresden\, 01279
ATTACH;FMTTYPE=image/jpeg:https://johannisfriedhof-dresden.de/wp-content/uploads/2025/11/buch-tolkewitz.jpg
END:VEVENT
END:VCALENDAR