BEGIN:VCALENDAR
VERSION:2.0
PRODID:-//Verwaltung des Elias-, Trinitatis- und Johannisfriedhofes zu Dresden - ECPv6.15.12.2//NONSGML v1.0//EN
CALSCALE:GREGORIAN
METHOD:PUBLISH
X-WR-CALNAME:Verwaltung des Elias-, Trinitatis- und Johannisfriedhofes zu Dresden
X-ORIGINAL-URL:https://johannisfriedhof-dresden.de
X-WR-CALDESC:Veranstaltungen für Verwaltung des Elias-, Trinitatis- und Johannisfriedhofes zu Dresden
REFRESH-INTERVAL;VALUE=DURATION:PT1H
X-Robots-Tag:noindex
X-PUBLISHED-TTL:PT1H
BEGIN:VTIMEZONE
TZID:Europe/Berlin
BEGIN:DAYLIGHT
TZOFFSETFROM:+0100
TZOFFSETTO:+0200
TZNAME:CEST
DTSTART:20240331T010000
END:DAYLIGHT
BEGIN:STANDARD
TZOFFSETFROM:+0200
TZOFFSETTO:+0100
TZNAME:CET
DTSTART:20241027T010000
END:STANDARD
BEGIN:DAYLIGHT
TZOFFSETFROM:+0100
TZOFFSETTO:+0200
TZNAME:CEST
DTSTART:20250330T010000
END:DAYLIGHT
BEGIN:STANDARD
TZOFFSETFROM:+0200
TZOFFSETTO:+0100
TZNAME:CET
DTSTART:20251026T010000
END:STANDARD
BEGIN:DAYLIGHT
TZOFFSETFROM:+0100
TZOFFSETTO:+0200
TZNAME:CEST
DTSTART:20260329T010000
END:DAYLIGHT
BEGIN:STANDARD
TZOFFSETFROM:+0200
TZOFFSETTO:+0100
TZNAME:CET
DTSTART:20261025T010000
END:STANDARD
END:VTIMEZONE
BEGIN:VEVENT
DTSTART;TZID=Europe/Berlin:20251217T143000
DTEND;TZID=Europe/Berlin:20251217T170000
DTSTAMP:20260423T073633
CREATED:20251201T135310Z
LAST-MODIFIED:20251201T135311Z
UID:3729-1765981800-1765990800@johannisfriedhof-dresden.de
SUMMARY:Advenstkalendertürchen 17
DESCRIPTION:Wir freuen uns sehr – für uns ist es eine Premiere! \n\n\n\n\n\nIn diesem Jahr sind wir das Kalendertürchen Nr. 17 des Johannstädter Advents und laden Sie herzlich zu einem gemütlichen Adventstreff in unserem Begegnungszentrum ein. \n\n\n\nSie erwartet warmer Fruchtpunsch\, leckere Kuchen\, eine kreative Weihnachtsbastelei sowie ein Weihnachtsbingo mit tollen Preisen. \n\n\n\nGemeinsam möchten wir mit Ihnen eine kleine Auszeit vom Alltag schaffen und ein paar besinnliche Stunden verbringen. \n\n\n\nUm 16:30 Uhr schließen wir unser Kalendertürchen mit einem gemeinsamen Singen von Weihnachtsliedern – ein stimmungsvoller Abschluss\, auf den wir uns ganz besonders freuen. \n\n\n\nWir freuen uns auf Ihren Besuch! \n\n\n\n— \n\n\n\nHeaderbild: Grafik: Grit Koalick
URL:https://johannisfriedhof-dresden.de/veranstaltung/advenstkalendertuerchen-17/
LOCATION:Begegnungszentrum Trinitatisfriedhof\, Fiedlerstraße 1\, Dresden\, Sachsen\, 01307\, Deutschland
ATTACH;FMTTYPE=image/png:https://johannisfriedhof-dresden.de/wp-content/uploads/2025/12/AdventinderJohannstadt_Header.png
END:VEVENT
END:VCALENDAR