BEGIN:VCALENDAR
VERSION:2.0
PRODID:-//Verwaltung des Elias-, Trinitatis- und Johannisfriedhofes zu Dresden - ECPv6.15.12.2//NONSGML v1.0//EN
CALSCALE:GREGORIAN
METHOD:PUBLISH
X-WR-CALNAME:Verwaltung des Elias-, Trinitatis- und Johannisfriedhofes zu Dresden
X-ORIGINAL-URL:https://johannisfriedhof-dresden.de
X-WR-CALDESC:Veranstaltungen für Verwaltung des Elias-, Trinitatis- und Johannisfriedhofes zu Dresden
REFRESH-INTERVAL;VALUE=DURATION:PT1H
X-Robots-Tag:noindex
X-PUBLISHED-TTL:PT1H
BEGIN:VTIMEZONE
TZID:Europe/Berlin
BEGIN:DAYLIGHT
TZOFFSETFROM:+0100
TZOFFSETTO:+0200
TZNAME:CEST
DTSTART:20250330T010000
END:DAYLIGHT
BEGIN:STANDARD
TZOFFSETFROM:+0200
TZOFFSETTO:+0100
TZNAME:CET
DTSTART:20251026T010000
END:STANDARD
BEGIN:DAYLIGHT
TZOFFSETFROM:+0100
TZOFFSETTO:+0200
TZNAME:CEST
DTSTART:20260329T010000
END:DAYLIGHT
BEGIN:STANDARD
TZOFFSETFROM:+0200
TZOFFSETTO:+0100
TZNAME:CET
DTSTART:20261025T010000
END:STANDARD
BEGIN:DAYLIGHT
TZOFFSETFROM:+0100
TZOFFSETTO:+0200
TZNAME:CEST
DTSTART:20270328T010000
END:DAYLIGHT
BEGIN:STANDARD
TZOFFSETFROM:+0200
TZOFFSETTO:+0100
TZNAME:CET
DTSTART:20271031T010000
END:STANDARD
END:VTIMEZONE
BEGIN:VEVENT
DTSTART;TZID=Europe/Berlin:20260426T140000
DTEND;TZID=Europe/Berlin:20260426T153000
DTSTAMP:20260420T190236
CREATED:20251002T085522Z
LAST-MODIFIED:20260209T154545Z
UID:3647-1777212000-1777217400@johannisfriedhof-dresden.de
SUMMARY:Trinitatisfriedhof: Frieden ist nicht alles\, aber ohne Frieden ist alles nichts
DESCRIPTION:Eine Führung mit Heike Richter zu den Gräbern von Opfern von Krieg und Gewaltherrschaft. \n\n\n\nIn Dresden gibt es auf vielen Friedhöfen Gräber und Gedenkstätten\, die noch heute von kriegerischen Auseinandersetzungen erzählen. Viele dieser Anlagen werden zur Erinnerung an das Leid der Verstorbenen und deren Familien sowie als Mahnung für künftige Generationen dauerhaft erhalten und gepflegt. Doch können diese Gräberheute noch mahnen?Zeitzeugnis auf unserem Friedhof ist die im Krieg stark zerstörte Grabstätte des Mitbegründers des sozialen Wohnungsbaus und Ehrenbürgers von Dresden\, Johann Meyer\, welche in naher Zukunft saniert werden soll. Mehr dazu und weitere interessante Geschichten unter anderem über Knöpfe\, einen empathischen Arzt\, einen Ballonpilotenund eine energische Albertinerin verspricht diese Spurensuche mit Heike Richter zu den Gräbern der Opfer von Krieg und Gewaltherrschaft. \n\n\n\nDauer ca. 90 Minuten.
URL:https://johannisfriedhof-dresden.de/veranstaltung/trinitatisfriedhof-frieden-ist-nicht-alles-aber-ohne-frieden-ist-alles-nichts/
LOCATION:Trinitatisfriedhof Feierhalle (gegenüber Trinitatiskirchruine)\, Fiedlerstraße 1\, Dresden\, Sachsen\, 01307\, Deutschland
CATEGORIES:Sonderführung,Trinitatisfriedhof
ATTACH;FMTTYPE=image/jpeg:https://johannisfriedhof-dresden.de/wp-content/uploads/2018/12/PICT6629.jpg
END:VEVENT
BEGIN:VEVENT
DTSTART;TZID=Europe/Berlin:20260429T140000
DTEND;TZID=Europe/Berlin:20260429T160000
DTSTAMP:20260420T190236
CREATED:20251103T143340Z
LAST-MODIFIED:20251103T143341Z
UID:3667-1777471200-1777478400@johannisfriedhof-dresden.de
SUMMARY:Trinitatisfriedhof: Kaffee\, Kuchen und Geschichte(n)
DESCRIPTION:Besuchen Sie uns! Trinken Sie eine Tasse Kaffee oder Tee\, kommen Sie mit uns ins Gespräch oder stöbern Sie durch unser Büchertauschregal. \n\n\n\nAm Ende unseres Kaffeenachmittages gegen 16 Uhr gibt es Geschichte(n)\, von oder über unsere Friedhöfe oder Wissenswertes aus Archiven\, lassen Sie sich überraschen und seien Sie gespannt. Kleine Führungen sind ebenfalls in der Konzeption.
URL:https://johannisfriedhof-dresden.de/veranstaltung/offener-mittwoch-im-begegnungszentrum-6-5-2-2/
LOCATION:Begegnungszentrum Trinitatisfriedhof\, Fiedlerstraße 1\, Dresden\, Sachsen\, 01307\, Deutschland
CATEGORIES:Kaffee Kuchen und Geschichte(n),Trinitatisfriedhof
ATTACH;FMTTYPE=image/jpeg:https://johannisfriedhof-dresden.de/wp-content/uploads/2025/02/kaffee-kuchen-geschichten.jpg
END:VEVENT
BEGIN:VEVENT
DTSTART;TZID=Europe/Berlin:20260503T140000
DTEND;TZID=Europe/Berlin:20260503T160000
DTSTAMP:20260420T190236
CREATED:20260209T161047Z
LAST-MODIFIED:20260209T161050Z
UID:3766-1777816800-1777824000@johannisfriedhof-dresden.de
SUMMARY:Wiederentdeckt: Lebensgeschichten schreibender Frauen
DESCRIPTION:Wer hat im 19. Jahrhundert in Dresden geschrieben – und wessen Werke sind heute fast vergessen?Auf dieser Führung folgen wir den Spuren von Frauen\, die sich in unterschiedlicher Weise dem Wort gewidmet haben.Wir lernen Schriftstellerinnen\, Übersetzerinnen und Herausgeberinnen kennen und bekommen Einblicke in ihr Leben und ihre Zeit.Die Sprecherin und Sängerin Claudia Gräf leiht ihnen ihre Stimme und liest ausgewählte Texte direkt an ihren Ruhestätten auf dem Johannisfriedhof.Ein spannender Spaziergang voller Entdeckungen\, bei dem Literatur\, Biografie und Erinnerung auf besondere Weise zusammenkommen.Dauer ca. 90 MinutenDie Veranstaltungen werden ehrenamtlich organisiert und sind kostenfrei.Um Spenden für unser Förderprojekt wird ausdrücklich gebeten.
URL:https://johannisfriedhof-dresden.de/veranstaltung/wiederentdeckt-lebensgeschichten-schreibender-frauen/
CATEGORIES:Johannisfriedhof,Sonderführung
ATTACH;FMTTYPE=image/jpeg:https://johannisfriedhof-dresden.de/wp-content/uploads/2026/02/veranstaltung05.jpg
END:VEVENT
BEGIN:VEVENT
DTSTART;TZID=Europe/Berlin:20260510T090000
DTEND;TZID=Europe/Berlin:20260510T110000
DTSTAMP:20260420T190236
CREATED:20230310T125322Z
LAST-MODIFIED:20260209T162025Z
UID:380-1778403600-1778410800@johannisfriedhof-dresden.de
SUMMARY:Johannisfriedhof: Zwitschern\, Singen\, Tirilieren -Gefiederte Friedhofsbesucher
DESCRIPTION:Unser Friedhof ist aufgrund seiner Lage\, Größe und Gestaltung von besonderer Anziehungskraft nicht nur für Erholungssuchende und Naturfreunde\, sondern auch speziell für Ornithologen. Schon mehrere Generationen von Ornithologen wählten deshalb gerade unseren Friedhof als Beobachtungsgebiet. \nDurch die parkartige Gestaltung sowie durch die naturnahe Pflege ist eine Vielfalt an Lebensräumen entstanden\, die von einer artenreichen Vogelwelt genutzt werden. So nimmt unser Friedhof in Bezug auf die Vogelwelt eine Spitzenstellung innerhalb desGroßgrüns der Stadt Dresden ein\, dessen Artenreichtum den vieler Parkanlagen übertrifft. \nHier kommen in hoher Siedlungsdichte Bodenbrüter wie Rotkehlchen und Zilpzalp\, Gebüschbrüter wie Grasmücken und Drosseln\, Höhlenbrüter wie Meisen und Spechte\, Baumbrüter wie Goldhähnchen und Krähen sowie zeitweise sogar Greifvögel undEulen vor. \nWährend der Führung mit dem Ornithologen Bernd Zimmermann kann man sich mit unserer Vogelwelt vertraut machen und einen ganz anderen Blick für unseren Friedhof bekommen. Dabei wird natürlich auch auf das Leben in den über 100 Nistkästen eingegangen\, die durch den Ornithologen Andreas Fiedler liebevoll betreut werden. \nDauer ca. 90 Minuten
URL:https://johannisfriedhof-dresden.de/veranstaltung/johannisfriedhof-ornithologische-fuehrung/
CATEGORIES:Johannisfriedhof,Sonderführung
ATTACH;FMTTYPE=image/jpeg:https://johannisfriedhof-dresden.de/wp-content/uploads/2017/11/veranstaltungen_ornithologische-führungf.jpg
END:VEVENT
BEGIN:VEVENT
DTSTART;TZID=Europe/Berlin:20260513T143000
DTEND;TZID=Europe/Berlin:20260513T170000
DTSTAMP:20260420T190236
CREATED:20251103T144332Z
LAST-MODIFIED:20251103T144336Z
UID:3681-1778682600-1778691600@johannisfriedhof-dresden.de
SUMMARY:Trinitatisfriedhof: Spiel und Gespräch
DESCRIPTION:Im Begegnungszentrum – Friedhofseingang gegenüber der Trinitatiskirchruine \n\n\n\nSpiel & Gespräch von 14:30 Uhr – 17 UhrGemütlicher Nachmittag mit offenem Spielangebot – Karten\, Brettspiele oder einfach nette Gespräche.  \n\n\n\nAlles kann\, nichts muss.
URL:https://johannisfriedhof-dresden.de/veranstaltung/kaffeenachmittag-2-2-2-2-2-2-2-2-2-2-2-2-2-2-2-2-2/
LOCATION:Begegnungszentrum Trinitatisfriedhof\, Fiedlerstraße 1\, Dresden\, Sachsen\, 01307\, Deutschland
CATEGORIES:Kaffeenachmittag,Trinitatisfriedhof
ATTACH;FMTTYPE=image/jpeg:https://johannisfriedhof-dresden.de/wp-content/uploads/2025/01/offener-mittwoch-geschichten.jpg
END:VEVENT
BEGIN:VEVENT
DTSTART;TZID=Europe/Berlin:20260527T140000
DTEND;TZID=Europe/Berlin:20260527T160000
DTSTAMP:20260420T190236
CREATED:20251103T143422Z
LAST-MODIFIED:20251103T143428Z
UID:3668-1779890400-1779897600@johannisfriedhof-dresden.de
SUMMARY:Trinitatisfriedhof: Kaffee\, Kuchen und Geschichte(n)
DESCRIPTION:Besuchen Sie uns! Trinken Sie eine Tasse Kaffee oder Tee\, kommen Sie mit uns ins Gespräch oder stöbern Sie durch unser Büchertauschregal. \n\n\n\nAm Ende unseres Kaffeenachmittages gegen 16 Uhr gibt es Geschichte(n)\, von oder über unsere Friedhöfe oder Wissenswertes aus Archiven\, lassen Sie sich überraschen und seien Sie gespannt. Kleine Führungen sind ebenfalls in der Konzeption.
URL:https://johannisfriedhof-dresden.de/veranstaltung/offener-mittwoch-im-begegnungszentrum-6-5-2-3/
LOCATION:Begegnungszentrum Trinitatisfriedhof\, Fiedlerstraße 1\, Dresden\, Sachsen\, 01307\, Deutschland
CATEGORIES:Kaffee Kuchen und Geschichte(n),Trinitatisfriedhof
ATTACH;FMTTYPE=image/jpeg:https://johannisfriedhof-dresden.de/wp-content/uploads/2025/02/kaffee-kuchen-geschichten.jpg
END:VEVENT
BEGIN:VEVENT
DTSTART;TZID=Europe/Berlin:20260531T140000
DTEND;TZID=Europe/Berlin:20260531T160000
DTSTAMP:20260420T190236
CREATED:20260209T162315Z
LAST-MODIFIED:20260209T162317Z
UID:3772-1780236000-1780243200@johannisfriedhof-dresden.de
SUMMARY:Nachhall - Stimmen\, die bleiben
DESCRIPTION:Auf dem Johannisfriedhof ruhen viele berühmte Sängerinnen\, darunter die international gefeierte Marcella Sembrich (1858–1935)\, die Dresdner Sopranistin Margarethe Siems (1879–1952) und die Konzertsängerin Margrit Döhren (1896–1969). Auf dieser Führung tauchen wir ein in ihre Lebensgeschichten und erfahren Spannendes überihre Karrieren.Die Führung wird musikalisch begleitet: Gretel Wittenburg (Gesang)\, Elke Jahn (Gitarre) und Annekathrin Rammelt (Violine) lassen die Stimmen der Sängerinnen wieder erklingen und bringen ihre Musik zurück in die Gegenwart. So verbinden sich Biografisches\, Erinnerung und die besondere Atmosphäre des Friedhofs zu einem einzigartigenErlebnis.Ein Spaziergang für alle\, die Geschichte hören\, entdecken und erleben möchten – Stimmen\, die bleiben\, im wahrsten Sinne des Wortes.Dauer ca. 90 MinutenDie Veranstaltungen werden ehrenamtlich organisiert und sind kostenfrei.Um Spenden für unser Förderprojekt wird ausdrücklich gebeten. \n\n\n\n—Foto: v. l. Gretel Wittenburg\, Annekathrin Rammelt\, Elke Jahn – Foto: Ilka Meffert
URL:https://johannisfriedhof-dresden.de/veranstaltung/nachhall-stimmen-die-bleiben/
LOCATION:Johannisfriedhof Feierhalle (Wallotkapelle)\, Wehlener Straße 13\, Dresden\, Sachsen\, 01279\, Deutschland
ATTACH;FMTTYPE=image/jpeg:https://johannisfriedhof-dresden.de/wp-content/uploads/2026/02/veranstaltung06.jpg
END:VEVENT
BEGIN:VEVENT
DTSTART;TZID=Europe/Berlin:20260610T143000
DTEND;TZID=Europe/Berlin:20260610T170000
DTSTAMP:20260420T190236
CREATED:20251103T144420Z
LAST-MODIFIED:20251103T144423Z
UID:3683-1781101800-1781110800@johannisfriedhof-dresden.de
SUMMARY:Trinitatisfriedhof: Spiel und Gespräch
DESCRIPTION:Im Begegnungszentrum – Friedhofseingang gegenüber der Trinitatiskirchruine \n\n\n\nSpiel & Gespräch von 14:30 Uhr – 17 UhrGemütlicher Nachmittag mit offenem Spielangebot – Karten\, Brettspiele oder einfach nette Gespräche.  \n\n\n\nAlles kann\, nichts muss.
URL:https://johannisfriedhof-dresden.de/veranstaltung/kaffeenachmittag-2-2-2-2-2-2-2-2-2-2-2-2-2-2-2-2-2-2/
LOCATION:Begegnungszentrum Trinitatisfriedhof\, Fiedlerstraße 1\, Dresden\, Sachsen\, 01307\, Deutschland
CATEGORIES:Kaffeenachmittag,Trinitatisfriedhof
ATTACH;FMTTYPE=image/jpeg:https://johannisfriedhof-dresden.de/wp-content/uploads/2025/01/offener-mittwoch-geschichten.jpg
END:VEVENT
BEGIN:VEVENT
DTSTART;TZID=Europe/Berlin:20260624T140000
DTEND;TZID=Europe/Berlin:20260624T160000
DTSTAMP:20260420T190236
CREATED:20251103T143432Z
LAST-MODIFIED:20251103T143436Z
UID:3669-1782309600-1782316800@johannisfriedhof-dresden.de
SUMMARY:Trinitatisfriedhof: Kaffee\, Kuchen und Geschichte(n)
DESCRIPTION:Besuchen Sie uns! Trinken Sie eine Tasse Kaffee oder Tee\, kommen Sie mit uns ins Gespräch oder stöbern Sie durch unser Büchertauschregal. \n\n\n\nAm Ende unseres Kaffeenachmittages gegen 16 Uhr gibt es Geschichte(n)\, von oder über unsere Friedhöfe oder Wissenswertes aus Archiven\, lassen Sie sich überraschen und seien Sie gespannt. Kleine Führungen sind ebenfalls in der Konzeption.
URL:https://johannisfriedhof-dresden.de/veranstaltung/offener-mittwoch-im-begegnungszentrum-6-5-2-4/
LOCATION:Begegnungszentrum Trinitatisfriedhof\, Fiedlerstraße 1\, Dresden\, Sachsen\, 01307\, Deutschland
CATEGORIES:Kaffee Kuchen und Geschichte(n),Trinitatisfriedhof
ATTACH;FMTTYPE=image/jpeg:https://johannisfriedhof-dresden.de/wp-content/uploads/2025/02/kaffee-kuchen-geschichten.jpg
END:VEVENT
BEGIN:VEVENT
DTSTART;TZID=Europe/Berlin:20260830T160000
DTEND;TZID=Europe/Berlin:20260830T170000
DTSTAMP:20260420T190236
CREATED:20260224T192208Z
LAST-MODIFIED:20260224T192210Z
UID:3787-1788105600-1788109200@johannisfriedhof-dresden.de
SUMMARY:„Was ich Dir schrieb\, es kommt alles aus dem Herzen…“
DESCRIPTION:Ein musikalisch-literarisches Programm aus Briefen von Müttern an ihre Kinder.Mütterbriefe sind kleine Wunder: sie öffnen Türen zu tiefen Gefühlen\, ehrlicher Liebe und großer Verbundenheit. In diesem Programm lassen wir Frauen aus verschiedenen Jahrhunderten zu Wort kommen – ihre Freude\, ihre Sorgen\, ihre Hoffnungen und ihre Lebensgeschichten.Rezitiert werden berührende Briefe von Johanna Schopenhauer\, Elisabeth Goethe\, Clara Schumann\, Käthe Kollwitz und Astrid Lindgren sowie Gedichte von Mascha Kaléko. Die Schauspielerin Anna-Katharina Muck gibt den Texten Stimme und macht spürbar\, wie die Frauen ihren Kindern und Enkeln ein Stück ihres Alltags\, ihrerGedanken und ihrer Liebe übermitteln.Die Texte werden kunstvoll mit der Musik von Johann Sebastian Bach verwoben und vertieft\, gespielt von Claudia Pätzold am Cembalo und Annekathrin Rammelt an der Violine.So entsteht ein Nachmittag voller Nähe\, Emotionen und Geschichten\, der Mütter und Kinder\, Vergangenheit und Gegenwart miteinander verbindet.Dauer ca. 45 MinutenDie Veranstaltungen werden ehrenamtlich organisiert und sind kostenfrei.Um Spenden für unser Förderprojekt wird ausdrücklich gebeten. \n\n\n\n—Foto: v. l. Claudia Pätzold\, Anna-Katharina Muck\, Annekathrin Rammelt – Foto: Jan Bollrich
URL:https://johannisfriedhof-dresden.de/veranstaltung/was-ich-dir-schrieb-es-kommt-alles-aus-dem-herzen/
ATTACH;FMTTYPE=image/jpeg:https://johannisfriedhof-dresden.de/wp-content/uploads/2026/02/veranstaltung07.jpg
END:VEVENT
BEGIN:VEVENT
DTSTART;TZID=Europe/Berlin:20260920T140000
DTEND;TZID=Europe/Berlin:20260920T150000
DTSTAMP:20260420T190236
CREATED:20260224T192452Z
LAST-MODIFIED:20260224T192454Z
UID:3793-1789912800-1789916400@johannisfriedhof-dresden.de
SUMMARY:„Lieblingsbeschäftigung: Grabmalskunst“
DESCRIPTION:Jenny von Bary-Doussin (1874–1922) war eine deutsche Bildhauerin der späten Kaiserzeit und der Weimarer Republik. Ihr Werk umfasst Grabplastiken\, Porträtskulpturen sowie verschiedene Auftragsarbeiten für städtische und private Auftraggeber.Sie war bekannt für ihre virtuose Kunstfertigkeit\, einfühlsames Erfassen und die harmonische Verbindung von Symbolik und figürlicher Darstellung.Auf dem Johannisfriedhof befindet sich die von Jenny von Bary-Doussin gestaltete Grabplastik der Familie König. Hier sind Paul König\, bekannt als Malzkönig\, und seine Tochter Paula König\, die sich als Mäzenin der Dresdner Kunst hervortat\, bestattet.In seinem Vortrag stellt Dr. Andreas Dehmer (Albertinum\, Staatliche Kunstsammlungen Dresden) das Leben und künstlerische Schaffen von Jenny von Bary-Doussin vor und erläutert die Grabplastik der König-Familie im historischen und künstlerischen Kontext. Dabei wird deutlich\, wie die Bildhauerin die Tradition der Grabplastik aufnahm und zugleich eigene\, moderne Akzente setzte.Der Vortrag bietet fundierte Einblicke in die bemerkenswerte Karriere einer Künstlerin\, deren Werke auf Friedhöfen und in Museen Zeugnis ablegen von Können\, Stilbewusstsein sowie der Stellung von Frauen in der Bildhauerei der frühen Moderne.Dauer ca. 30 MinutenIm Anschluss ist Zeit für den Austausch bei Kaffee und frisch gebackenem Kuchen.
URL:https://johannisfriedhof-dresden.de/veranstaltung/lieblingsbeschaeftigung-grabmalskunst/
ATTACH;FMTTYPE=image/jpeg:https://johannisfriedhof-dresden.de/wp-content/uploads/2026/02/veranstaltung08.jpg
END:VEVENT
BEGIN:VEVENT
DTSTART;TZID=Europe/Berlin:20260920T160000
DTEND;TZID=Europe/Berlin:20260920T170000
DTSTAMP:20260420T190236
CREATED:20260224T192640Z
LAST-MODIFIED:20260224T192642Z
UID:3795-1789920000-1789923600@johannisfriedhof-dresden.de
SUMMARY:Grabskulpturen von Bildhauerinnen
DESCRIPTION:Entdecken Sie beeindruckende Grabskulpturen\, die von Bildhauerinnen geschaffen wurden – viele ihrer Werke sind heute kaum noch bekannt\, ihre künstlerische Qualität aber unübersehbar.Bei diesem Rundgang lernen Sie u. a. Arbeiten von Julie Emilie Genthe (1869–1938) und Susanne Wagner-Teichen (um 1877–1930) kennen. Andreas Dehmer erläutert die Besonderheiten der Skulpturen und gibt Einblicke in die Lebens- und Arbeitswelten dieser Künstlerinnen.Ein Spaziergang\, der die oft vergessenen Leistungen von Frauen in der Bildhauerei sichtbar macht und zu neuen Entdeckungen auf den Friedhöfen einlädt.Mit Dr. Andreas Dehmer (Staatliche Kunstsammlungen Dresden) und Beatrice Teichmann (Friedhofsverwaltung).Dauer ca. 60 MinutenDie Veranstaltungen werden ehrenamtlich organisiert und sind kostenfrei.Um Spenden für unser Förderprojekt wird ausdrücklich gebeten.
URL:https://johannisfriedhof-dresden.de/veranstaltung/grabskulpturen-von-bildhauerinnen/
ATTACH;FMTTYPE=image/jpeg:https://johannisfriedhof-dresden.de/wp-content/uploads/2026/02/veranstaltung09.jpg
END:VEVENT
BEGIN:VEVENT
DTSTART;TZID=Europe/Berlin:20261011T140000
DTEND;TZID=Europe/Berlin:20261011T160000
DTSTAMP:20260420T190236
CREATED:20260224T192853Z
LAST-MODIFIED:20260224T192855Z
UID:3798-1791727200-1791734400@johannisfriedhof-dresden.de
SUMMARY:Frauenschicksale - Erinnerung und Begegnung
DESCRIPTION:Friedhöfe erzählen nicht nur von Lebensfreude und Erfolg\, sondern auch von Schicksalen\, die von Leid\, Diskriminierung oder tragischen Umständen geprägt waren.In dieser Führung widmen wir uns Frauen wie Grete Beier (1885–1908)\, Tochter eines Bürgermeisters\, die durch tragische Entscheidungen in den Blick der Öffentlichkeit geriet und 1908 im Königreich Sachsen als letzte Frau öffentlich hingerichtet wurde\, und Helene von Gersdorff (1923–1943)\, eine junge Frau mit körperlichen und geistigenBeeinträchtigungen\, die 1943 im Rahmen des nationalsozialistischen „Euthanasie“- Programms ermordet wurde.Manche Frauen sind nur durch Gedenkinschriften bekannt\, weil sie nicht bestattet werden konnten.Die Führung lädt dazu ein\, einfühlsam zuzuhören\, die oft vergessenen Lebenswege wieder sichtbar zu machen und Erinnerung\, Respekt und Mitgefühl in den Mittelpunkt zu stellen.Eine Führung mit Heike Richter und Annegret Michel.Dauer ca. 90 MinutenDie Veranstaltungen werden ehrenamtlich organisiert und sind kostenfrei.Um Spenden für unser Förderprojekt wird ausdrücklich gebeten. \n\n\n\n—Foto: Alexandra von Gersdorff mit ihrem Sohn Kolja am Grab ihrer Schwester Helene im Jahre 2020 – Foto: Beatrice Teichmann
URL:https://johannisfriedhof-dresden.de/veranstaltung/frauenschicksale-erinnerung-und-begegnung/
ATTACH;FMTTYPE=image/jpeg:https://johannisfriedhof-dresden.de/wp-content/uploads/2026/02/veranstaltung10.jpg
END:VEVENT
END:VCALENDAR