BEGIN:VCALENDAR
VERSION:2.0
PRODID:-//Verwaltung des Elias-, Trinitatis- und Johannisfriedhofes zu Dresden - ECPv6.15.12.2//NONSGML v1.0//EN
CALSCALE:GREGORIAN
METHOD:PUBLISH
X-ORIGINAL-URL:https://johannisfriedhof-dresden.de
X-WR-CALDESC:Veranstaltungen für Verwaltung des Elias-, Trinitatis- und Johannisfriedhofes zu Dresden
REFRESH-INTERVAL;VALUE=DURATION:PT1H
X-Robots-Tag:noindex
X-PUBLISHED-TTL:PT1H
BEGIN:VTIMEZONE
TZID:Europe/Berlin
BEGIN:DAYLIGHT
TZOFFSETFROM:+0100
TZOFFSETTO:+0200
TZNAME:CEST
DTSTART:20240331T010000
END:DAYLIGHT
BEGIN:STANDARD
TZOFFSETFROM:+0200
TZOFFSETTO:+0100
TZNAME:CET
DTSTART:20241027T010000
END:STANDARD
BEGIN:DAYLIGHT
TZOFFSETFROM:+0100
TZOFFSETTO:+0200
TZNAME:CEST
DTSTART:20250330T010000
END:DAYLIGHT
BEGIN:STANDARD
TZOFFSETFROM:+0200
TZOFFSETTO:+0100
TZNAME:CET
DTSTART:20251026T010000
END:STANDARD
BEGIN:DAYLIGHT
TZOFFSETFROM:+0100
TZOFFSETTO:+0200
TZNAME:CEST
DTSTART:20260329T010000
END:DAYLIGHT
BEGIN:STANDARD
TZOFFSETFROM:+0200
TZOFFSETTO:+0100
TZNAME:CET
DTSTART:20261025T010000
END:STANDARD
END:VTIMEZONE
BEGIN:VEVENT
DTSTART;TZID=Europe/Berlin:20250406T140000
DTEND;TZID=Europe/Berlin:20250406T160000
DTSTAMP:20260424T035931
CREATED:20230310T123112Z
LAST-MODIFIED:20250326T100105Z
UID:391-1743948000-1743955200@johannisfriedhof-dresden.de
SUMMARY:Trinitatisfriedhof: Von Erfindern\, Entdeckern und findigen Unternehmern
DESCRIPTION:Dresden ist schon immer eine Stadt der Wissenschaft und Industrie. Protagonisten dieser Gebiete fanden auf dem Trinitatisfriedhof ihre letzten Ruhestätten. Besucht werden ca. 20 Grabstätten\, unter anderem die Gräber des Universalgelehrten Carl Gustav Carus (1789–1869)\, des Schokoladenproduzenten Gottfried Heinrich Christoph Jordan (1791–1860)\, dem die Erfindung der Milchschokolade nachgesagt wird sowie des Privatgelehrten Basil von Engelhardt (1828–1915) der seinerzeit die modernste Sternwarte Europas betrieb. \n\n\n\n— \n\n\n\nEine Führung mit Christian Mögel und Martin KadenDauer ca. 90 Minuten
URL:https://johannisfriedhof-dresden.de/veranstaltung/trinitatisfriedhof-musikalische-spuren-3/
LOCATION:Trinitatisfriedhof Feierhalle (gegenüber Trinitatiskirchruine)\, Fiedlerstraße 1\, Dresden\, Sachsen\, 01307\, Deutschland
CATEGORIES:Sonderführung,Trinitatisfriedhof
ATTACH;FMTTYPE=image/jpeg:https://johannisfriedhof-dresden.de/wp-content/uploads/2023/03/image008.jpg
ORGANIZER;CN="Freundeskreis Trinitatis- und Johannisfriedhof Dresden":MAILTO:kontakt@freundeskreis-trinitatis-und-johannisfriedhof-dresden.de
END:VEVENT
BEGIN:VEVENT
DTSTART;TZID=Europe/Berlin:20250409T143000
DTEND;TZID=Europe/Berlin:20250409T170000
DTSTAMP:20260424T035931
CREATED:20250403T123619Z
LAST-MODIFIED:20250403T124741Z
UID:3494-1744209000-1744218000@johannisfriedhof-dresden.de
SUMMARY:Trinitatisfriedhof: Kaffeenachmittag
DESCRIPTION:Im Begegnungszentrum – Friedhofseingang gegenüber der Trinitatiskirchruine \n\n\n\nEin herzliches Willkommen zu unserem Kaffeenachmittag! Trinken Sie eine Tasse Kaffee oder Tee zu einem Stück selbst gebackenen Kuchen\, kommen Sie mit uns ins Gespräch oder stöbern Sie durch unser Büchertauschregal! \n\n\n\nSich im Miteinander begegnen\, Erlebnisse und Erinnerungen austauschen oder Interessantes erfahren – unser Begegnungszentrum ist ein Ort für den Dialog mit Angehörigen\, Besuchern und Interessierten – eine Verbindung ins Leben über den Tod hinaus. \n\n\n\nFaltblätter und Broschüren zu unseren Friedhöfen sowie der Gottesackerhonig vom Johannisfriedhof können hier erworben werben.
URL:https://johannisfriedhof-dresden.de/veranstaltung/offener-mittwoch-im-begegnungszentrum-6-6-2/
LOCATION:Begegnungszentrum Trinitatisfriedhof\, Fiedlerstraße 1\, Dresden\, Sachsen\, 01307\, Deutschland
CATEGORIES:Kaffeenachmittag,Trinitatisfriedhof
ATTACH;FMTTYPE=image/jpeg:https://johannisfriedhof-dresden.de/wp-content/uploads/2025/01/offener-mittwoch-geschichten.jpg
END:VEVENT
BEGIN:VEVENT
DTSTART;TZID=Europe/Berlin:20250413T140000
DTEND;TZID=Europe/Berlin:20250413T160000
DTSTAMP:20260424T035931
CREATED:20230310T125005Z
LAST-MODIFIED:20250306T104429Z
UID:387-1744552800-1744560000@johannisfriedhof-dresden.de
SUMMARY:Johannisfriedhof: Frieden ist nicht alles\, aber ohne Frieden ist alles nichts
DESCRIPTION:In Dresden gibt es auf vielen Friedhöfen Gräber und Gedenkstätten\, die noch heute von kriegerischen Auseinandersetzungen erzählen. Viele dieser Anlagen werden zur Erinnerung an das Leid der Verstorbenen und deren Familien sowie als Mahnung für künftige Generationen dauerhaft erhalten und gepflegt. Doch können diese Gräber heute noch mahnen? \nGehen Sie mit uns dieser Frage nach und erfahren Sie unter anderem mehr über das jüngste Kriegsgrab in Dresden\, einen wirklich heldenhaften Unternehmer und eine mutige Frau\, die freiwillig ihr eigenes Wohlergehen für die Pflege schwer erkrankter Soldaten aufs Spiel setzte. \nEine Spurensuche mit Heike Richter zu den Gräbern der Opfer von Krieg und Gewaltherrschaft. \nDauer ca. 90 Minuten \nGrabstelle Wägner\, Foto: Tobias Koch\, Johannisfriedhof \n— \nDie Veranstaltungen des Freundeskreis (FK) sind kostenfrei. Spenden\, die dem Erhalt der historischen Anlagen zugutekommen\, sind willkommen!
URL:https://johannisfriedhof-dresden.de/veranstaltung/johannisfriedhof-kriegsgraeber/
LOCATION:Johannisfriedhof Feierhalle (Wallotkapelle)\, Wehlener Straße 13\, Dresden\, Sachsen\, 01279\, Deutschland
CATEGORIES:Johannisfriedhof,Sonderführung
ATTACH;FMTTYPE=image/jpeg:https://johannisfriedhof-dresden.de/wp-content/uploads/2023/03/2024-06.jpg
END:VEVENT
BEGIN:VEVENT
DTSTART;TZID=Europe/Berlin:20250427T140000
DTEND;TZID=Europe/Berlin:20250427T153000
DTSTAMP:20260424T035931
CREATED:20240327T132036Z
LAST-MODIFIED:20250306T104753Z
UID:3015-1745762400-1745767800@johannisfriedhof-dresden.de
SUMMARY:Verborgene Kunstschätze wiederentdeckt
DESCRIPTION:Eine Kunstbetrachtung des Grabmals der Familie Bethe\, geschaffen von Selmar Werner (1864–1953)\, und des Grabmals der Familie Rehm\, geschaffen von Adolf Rehm (1867–1952). Zwei Engel\, die nicht unterschiedlicher sein könnten: Der Engel auf der Grabstelle Bethe wurde 2024 restauriert und erstrahlt im leuchtendem Weiß. Unweit weit davon sitzt der wohl bekannteste Engel des Friedhofs aus Bronze geschaffen von Adolf Rehm auf seiner eigenen Ruhestätte.Eine Veranstaltung mit der Theologin und Kunsthistorikerin Friedburg Gerlach\, in Kooperation mit der Katholischen Akademie des Bistums Dresden-Meißen und der Restauratorin Dana Krause.Dauer ca. 90 Minuten.Bitte bringen Sie\, wenn benötigt\, eine Sitzgelegenheit mit.
URL:https://johannisfriedhof-dresden.de/veranstaltung/kunstschaetze-wiederentdeckt-2024-04/
LOCATION:Johannisfriedhof Feierhalle (Wallotkapelle)\, Wehlener Straße 13\, Dresden\, Sachsen\, 01279\, Deutschland
CATEGORIES:Johannisfriedhof,Sonderführung
ATTACH;FMTTYPE=image/jpeg:https://johannisfriedhof-dresden.de/wp-content/uploads/2024/03/IMG_1924.jpg
ORGANIZER;CN="Freundeskreis Trinitatis- und Johannisfriedhof Dresden":MAILTO:kontakt@freundeskreis-trinitatis-und-johannisfriedhof-dresden.de
END:VEVENT
BEGIN:VEVENT
DTSTART;TZID=Europe/Berlin:20250430T143000
DTEND;TZID=Europe/Berlin:20250430T170000
DTSTAMP:20260424T035931
CREATED:20250117T143646Z
LAST-MODIFIED:20250403T123237Z
UID:3360-1746023400-1746032400@johannisfriedhof-dresden.de
SUMMARY:Trinitatisfriedhof: Kaffee\, Kuchen und Geschichte(n)
DESCRIPTION:Besuchen Sie uns! Trinken Sie eine Tasse Kaffee oder Tee\, kommen Sie mit uns ins Gespräch oder stöbern Sie durch unser Büchertauschregal. \n\n\n\nAm Ende unseres Kaffeenachmittages gegen 17 Uhr gibt es Geschichte(n)\, von oder über unsere Friedhöfe oder Wissenswertes aus Archiven\, lassen Sie sich überraschen und seien Sie gespannt. Kleine Führungen sind ebenfalls in der Konzeption.
URL:https://johannisfriedhof-dresden.de/veranstaltung/offener-mittwoch-im-begegnungszentrum-6-3/
LOCATION:Begegnungszentrum Trinitatisfriedhof\, Fiedlerstraße 1\, Dresden\, Sachsen\, 01307\, Deutschland
CATEGORIES:Kaffee Kuchen und Geschichte(n),Trinitatisfriedhof
ATTACH;FMTTYPE=image/jpeg:https://johannisfriedhof-dresden.de/wp-content/uploads/2025/02/kaffee-kuchen-geschichten.jpg
END:VEVENT
END:VCALENDAR