BEGIN:VCALENDAR
VERSION:2.0
PRODID:-//Verwaltung des Elias-, Trinitatis- und Johannisfriedhofes zu Dresden - ECPv6.15.12.2//NONSGML v1.0//EN
CALSCALE:GREGORIAN
METHOD:PUBLISH
X-WR-CALNAME:Verwaltung des Elias-, Trinitatis- und Johannisfriedhofes zu Dresden
X-ORIGINAL-URL:https://johannisfriedhof-dresden.de
X-WR-CALDESC:Veranstaltungen für Verwaltung des Elias-, Trinitatis- und Johannisfriedhofes zu Dresden
REFRESH-INTERVAL;VALUE=DURATION:PT1H
X-Robots-Tag:noindex
X-PUBLISHED-TTL:PT1H
BEGIN:VTIMEZONE
TZID:Europe/Berlin
BEGIN:DAYLIGHT
TZOFFSETFROM:+0100
TZOFFSETTO:+0200
TZNAME:CEST
DTSTART:20240331T010000
END:DAYLIGHT
BEGIN:STANDARD
TZOFFSETFROM:+0200
TZOFFSETTO:+0100
TZNAME:CET
DTSTART:20241027T010000
END:STANDARD
BEGIN:DAYLIGHT
TZOFFSETFROM:+0100
TZOFFSETTO:+0200
TZNAME:CEST
DTSTART:20250330T010000
END:DAYLIGHT
BEGIN:STANDARD
TZOFFSETFROM:+0200
TZOFFSETTO:+0100
TZNAME:CET
DTSTART:20251026T010000
END:STANDARD
BEGIN:DAYLIGHT
TZOFFSETFROM:+0100
TZOFFSETTO:+0200
TZNAME:CEST
DTSTART:20260329T010000
END:DAYLIGHT
BEGIN:STANDARD
TZOFFSETFROM:+0200
TZOFFSETTO:+0100
TZNAME:CET
DTSTART:20261025T010000
END:STANDARD
END:VTIMEZONE
BEGIN:VEVENT
DTSTART;TZID=Europe/Berlin:20250501T140000
DTEND;TZID=Europe/Berlin:20250501T153000
DTSTAMP:20260424T010722
CREATED:20250430T113355Z
LAST-MODIFIED:20250430T113358Z
UID:3541-1746108000-1746113400@johannisfriedhof-dresden.de
SUMMARY:Trinitatisfriedhof: Bilder vom Abschiednehmen und Ankommen
DESCRIPTION:Der Münchner Künstler Heinrich Waderè (1865-1950) hat auf dem Trinitatisfriedhof zwei Halbreliefs für Grabmale geschaffen. Das eine zeigt die Verstorbene und eine Trauernde\, die einander zugewandt sind\, als wären sie durch den Tod nicht getrennt worden. Das andere zeigt\, wie die jung Verstorbene in der anderen Welt von Jesus Christus liebevoll in Empfang genommen wird. \n\n\n\nWoher kommen diese sensiblen und berührenden Bildideen? Welche Wirkung haben sie auf die Betrachtenden\, die aus ganz unterschiedlichen Gründen an den Ruhestätten verweilen?Erfahren Sie während der Bildbetrachtungen auch Interessantes und Wissenswertes über den Künstler selbst. \n\n\n\nEine Veranstaltung mit der Theologin und Kunsthistorikerin Friedburg Gerlach in Kooperation mit der Katholische Akademie des Bistums Dresden-Meißen. \n\n\n\nDauer ca. 60 – 90 MinutenBei Regen findet die Veranstaltung in Teilen im Begegnungszentrum statt. \n\n\n\n— \n\n\n\nFoto: Friedburg Gerlach – Grabstelle Raabe
URL:https://johannisfriedhof-dresden.de/veranstaltung/trinitatisfriedhof-bilder-vom-abschiednehmen-und-ankommen/
LOCATION:Trinitatisfriedhof Feierhalle (gegenüber Trinitatiskirchruine)\, Fiedlerstraße 1\, Dresden\, Sachsen\, 01307\, Deutschland
CATEGORIES:Trinitatisfriedhof
ATTACH;FMTTYPE=image/jpeg:https://johannisfriedhof-dresden.de/wp-content/uploads/2025/04/veranstaltung-abschied-ankommen.jpg
END:VEVENT
BEGIN:VEVENT
DTSTART;TZID=Europe/Berlin:20250504T140000
DTEND;TZID=Europe/Berlin:20250504T153000
DTSTAMP:20260424T010722
CREATED:20240318T143657Z
LAST-MODIFIED:20250306T110446Z
UID:2913-1746367200-1746372600@johannisfriedhof-dresden.de
SUMMARY:Sonntagsspaziergang
DESCRIPTION:Mit seinen 25 ha ist der Johannisfriedhof heute der zweitgrößte Friedhof der Landeshauptstadt.Bereits 1881 wurde das erste Grab ausgehoben\, denn durch die Eingemeindungen umliegender Orte und die durch die Industrialisierung stetig wachsende Bevölkerungszahl war ein neuer Friedhof dringend nötig geworden. Der ArchitektPaul Wallot übernahm die Planung des neuen Friedhofs und schuf die imposante Feierhalle (1841-1912). \n\n\n\nBis heute haben ca. 130.000 Dresdnerinnen und Dresdner auf dem Johannisfriedhof ihre letzte Ruhe gefunden – darunter unzählige bedeutende Unternehmerinnen und Unternehmer\, Wissenschaftler\, Künstlerinnen und Künstler sowie Architekten. \n\n\n\nViele der Ruhestätten sind von hohem künstlerischem Wert und stehen unter Denkmalschutz.Beisetzungen von Särgen und Urnen finden bis heute statt. \n\n\n\nEin Sonntagsspaziergang mit Andrea Helbig und Karin Dechandt. \n\n\n\n– Der Eintritt ist frei\, um eine Spende wird gebeten.
URL:https://johannisfriedhof-dresden.de/veranstaltung/sonntagsspaziergang-2024-04/
LOCATION:Johannisfriedhof Feierhalle (Wallotkapelle)\, Wehlener Straße 13\, Dresden\, Sachsen\, 01279\, Deutschland
CATEGORIES:Johannisfriedhof,Sonderführung
ATTACH;FMTTYPE=image/jpeg:https://johannisfriedhof-dresden.de/wp-content/uploads/2017/12/titelbild_johannisfriedhof.jpg
ORGANIZER;CN="Freundeskreis Trinitatis- und Johannisfriedhof Dresden":MAILTO:kontakt@freundeskreis-trinitatis-und-johannisfriedhof-dresden.de
END:VEVENT
BEGIN:VEVENT
DTSTART;TZID=Europe/Berlin:20250514T143000
DTEND;TZID=Europe/Berlin:20250514T170000
DTSTAMP:20260424T010722
CREATED:20250403T123753Z
LAST-MODIFIED:20250403T124823Z
UID:3497-1747233000-1747242000@johannisfriedhof-dresden.de
SUMMARY:Trinitatisfriedhof: Kaffeenachmittag
DESCRIPTION:Im Begegnungszentrum – Friedhofseingang gegenüber der Trinitatiskirchruine \n\n\n\nEin herzliches Willkommen zu unserem Kaffeenachmittag! Trinken Sie eine Tasse Kaffee oder Tee zu einem Stück selbst gebackenen Kuchen\, kommen Sie mit uns ins Gespräch oder stöbern Sie durch unser Büchertauschregal! \n\n\n\nSich im Miteinander begegnen\, Erlebnisse und Erinnerungen austauschen oder Interessantes erfahren – unser Begegnungszentrum ist ein Ort für den Dialog mit Angehörigen\, Besuchern und Interessierten – eine Verbindung ins Leben über den Tod hinaus. \n\n\n\nFaltblätter und Broschüren zu unseren Friedhöfen sowie der Gottesackerhonig vom Johannisfriedhof können hier erworben werben.
URL:https://johannisfriedhof-dresden.de/veranstaltung/offener-mittwoch-im-begegnungszentrum-6-6-2-2/
LOCATION:Begegnungszentrum Trinitatisfriedhof\, Fiedlerstraße 1\, Dresden\, Sachsen\, 01307\, Deutschland
CATEGORIES:Kaffeenachmittag,Trinitatisfriedhof
ATTACH;FMTTYPE=image/jpeg:https://johannisfriedhof-dresden.de/wp-content/uploads/2025/01/offener-mittwoch-geschichten.jpg
END:VEVENT
BEGIN:VEVENT
DTSTART;TZID=Europe/Berlin:20250518T143000
DTEND;TZID=Europe/Berlin:20250518T180000
DTSTAMP:20260424T010722
CREATED:20250313T181713Z
LAST-MODIFIED:20250313T181831Z
UID:3451-1747578600-1747591200@johannisfriedhof-dresden.de
SUMMARY:Trinitatisfriedhof: Konzert „Begegnungen“
DESCRIPTION:Bartok begegnet Telemann\, Musik aus vier Jahrhunderten trifft auf neue Texte\, Violine und Schlagzeug finden sich. Dieses Konzert zeigt Gegensätze auf und vereint dabei die unterschiedlichsten Künste zu einer Gesamtheit. Zeit des Innehaltens\, Zeit des Reflektierens: Wir begegnen uns.Es erklingt Musik von Telemann\, Bartok und Lischka in Begegnung mit Texten von Lars Jung. Höhepunkt werden die Matachin Dances von Peter Garland sein\, die den Tanz als Kunstform miteinschließen. Es wirken mit: Adela Bratu und Steffen Gaitzsch (Violine)\, Christian Langer (Schlagzeug)\, Lars Jung (Rezitation) und Katja Erfuth (Tanz).Dauer ca. 70 Minuten\, ohne Pause.Einlass ab 14:00 Uhr\, die Anzahl der Sitzplätze ist begrenzt. \n\n\n\nIm Anschluss Führung: \n\n\n\n17 Uhr „Ohne Musik wäre das Leben ein Irrtum“ \n\n\n\nEine Führung mit Christian Mögel zu den Ruhestätten bekannter Musikschaffender. \n\n\n\nWir öffnen unser Begegnungszentrum von 14 bis 17 Uhr und laden Sie ein zum Austausch bei Kaffee und Kuchen. Faltblätter und Broschüren zu unseren Friedhöfen sowie der Gottesackerhonig vom Johannisfriedhof können hier erworben werben. \n\n\n\nEine gemeinsame Veranstaltung des Freundeskreises Trinitatis- und Johannisfriedhof und des Fördervereins Dresdner Philharmonie e.V.
URL:https://johannisfriedhof-dresden.de/veranstaltung/friedhof-lebendiges-kulturerbe-3/
LOCATION:Begegnungszentrum Trinitatisfriedhof\, Fiedlerstraße 1\, Dresden\, Sachsen\, 01307\, Deutschland
CATEGORIES:Sonderveranstaltung,Trinitatisfriedhof
ATTACH;FMTTYPE=image/jpeg:https://johannisfriedhof-dresden.de/wp-content/uploads/2025/03/konzert-begegnungen.jpg
END:VEVENT
BEGIN:VEVENT
DTSTART;TZID=Europe/Berlin:20250522T143000
DTEND;TZID=Europe/Berlin:20250522T170000
DTSTAMP:20260424T010722
CREATED:20250403T123826Z
LAST-MODIFIED:20250403T124813Z
UID:3499-1747924200-1747933200@johannisfriedhof-dresden.de
SUMMARY:Trinitatisfriedhof: Kaffeenachmittag
DESCRIPTION:Im Begegnungszentrum – Friedhofseingang gegenüber der Trinitatiskirchruine \n\n\n\nEin herzliches Willkommen zu unserem Kaffeenachmittag! Trinken Sie eine Tasse Kaffee oder Tee zu einem Stück selbst gebackenen Kuchen\, kommen Sie mit uns ins Gespräch oder stöbern Sie durch unser Büchertauschregal! \n\n\n\nSich im Miteinander begegnen\, Erlebnisse und Erinnerungen austauschen oder Interessantes erfahren – unser Begegnungszentrum ist ein Ort für den Dialog mit Angehörigen\, Besuchern und Interessierten – eine Verbindung ins Leben über den Tod hinaus. \n\n\n\nFaltblätter und Broschüren zu unseren Friedhöfen sowie der Gottesackerhonig vom Johannisfriedhof können hier erworben werben.
URL:https://johannisfriedhof-dresden.de/veranstaltung/offener-mittwoch-im-begegnungszentrum-6-6-2-2-2/
LOCATION:Begegnungszentrum Trinitatisfriedhof\, Fiedlerstraße 1\, Dresden\, Sachsen\, 01307\, Deutschland
CATEGORIES:Kaffeenachmittag,Trinitatisfriedhof
ATTACH;FMTTYPE=image/jpeg:https://johannisfriedhof-dresden.de/wp-content/uploads/2025/01/offener-mittwoch-geschichten.jpg
END:VEVENT
END:VCALENDAR