BEGIN:VCALENDAR
VERSION:2.0
PRODID:-//Verwaltung des Elias-, Trinitatis- und Johannisfriedhofes zu Dresden - ECPv6.15.12.2//NONSGML v1.0//EN
CALSCALE:GREGORIAN
METHOD:PUBLISH
X-WR-CALNAME:Verwaltung des Elias-, Trinitatis- und Johannisfriedhofes zu Dresden
X-ORIGINAL-URL:https://johannisfriedhof-dresden.de
X-WR-CALDESC:Veranstaltungen für Verwaltung des Elias-, Trinitatis- und Johannisfriedhofes zu Dresden
REFRESH-INTERVAL;VALUE=DURATION:PT1H
X-Robots-Tag:noindex
X-PUBLISHED-TTL:PT1H
BEGIN:VTIMEZONE
TZID:Europe/Berlin
BEGIN:DAYLIGHT
TZOFFSETFROM:+0100
TZOFFSETTO:+0200
TZNAME:CEST
DTSTART:20240331T010000
END:DAYLIGHT
BEGIN:STANDARD
TZOFFSETFROM:+0200
TZOFFSETTO:+0100
TZNAME:CET
DTSTART:20241027T010000
END:STANDARD
BEGIN:DAYLIGHT
TZOFFSETFROM:+0100
TZOFFSETTO:+0200
TZNAME:CEST
DTSTART:20250330T010000
END:DAYLIGHT
BEGIN:STANDARD
TZOFFSETFROM:+0200
TZOFFSETTO:+0100
TZNAME:CET
DTSTART:20251026T010000
END:STANDARD
BEGIN:DAYLIGHT
TZOFFSETFROM:+0100
TZOFFSETTO:+0200
TZNAME:CEST
DTSTART:20260329T010000
END:DAYLIGHT
BEGIN:STANDARD
TZOFFSETFROM:+0200
TZOFFSETTO:+0100
TZNAME:CET
DTSTART:20261025T010000
END:STANDARD
END:VTIMEZONE
BEGIN:VEVENT
DTSTART;TZID=Europe/Berlin:20251008T143000
DTEND;TZID=Europe/Berlin:20251008T170000
DTSTAMP:20260423T102821
CREATED:20250403T124517Z
LAST-MODIFIED:20250403T124520Z
UID:3520-1759933800-1759942800@johannisfriedhof-dresden.de
SUMMARY:Trinitatisfriedhof: Kaffeenachmittag
DESCRIPTION:Im Begegnungszentrum – Friedhofseingang gegenüber der Trinitatiskirchruine \n\n\n\nEin herzliches Willkommen zu unserem Kaffeenachmittag! Trinken Sie eine Tasse Kaffee oder Tee zu einem Stück selbst gebackenen Kuchen\, kommen Sie mit uns ins Gespräch oder stöbern Sie durch unser Büchertauschregal! \n\n\n\nSich im Miteinander begegnen\, Erlebnisse und Erinnerungen austauschen oder Interessantes erfahren – unser Begegnungszentrum ist ein Ort für den Dialog mit Angehörigen\, Besuchern und Interessierten – eine Verbindung ins Leben über den Tod hinaus. \n\n\n\nFaltblätter und Broschüren zu unseren Friedhöfen sowie der Gottesackerhonig vom Johannisfriedhof können hier erworben werben.
URL:https://johannisfriedhof-dresden.de/veranstaltung/kaffeenachmittag-2-2-2-2-2-2-2-2-2/
LOCATION:Begegnungszentrum Trinitatisfriedhof\, Fiedlerstraße 1\, Dresden\, Sachsen\, 01307\, Deutschland
CATEGORIES:Kaffeenachmittag,Trinitatisfriedhof
ATTACH;FMTTYPE=image/jpeg:https://johannisfriedhof-dresden.de/wp-content/uploads/2025/01/offener-mittwoch-geschichten.jpg
END:VEVENT
BEGIN:VEVENT
DTSTART;TZID=Europe/Berlin:20251015T153000
DTEND;TZID=Europe/Berlin:20251015T173000
DTSTAMP:20260423T102821
CREATED:20251002T091907Z
LAST-MODIFIED:20251002T091911Z
UID:3650-1760542200-1760549400@johannisfriedhof-dresden.de
SUMMARY:Workshop-Reihe Friedhofskultur: Ist das Kultur oder kann das weg?
DESCRIPTION:Nur mit Anmeldung per Mail: Begegnungszentrum@trinitatisfriedhof-dresden.de \n\n\n\nWie und wo wollen wir in Zukunft Abschied nehmen? Wie wollen wir als Stadt den Toten gedenken? Wie wird sich unsere Erinnerungskultur wandeln?  \n\n\n\nFriedhöfe haben keine Lobby\, sie verschwinden aus der Förderung und Planung\, obwohl sie in unseren Städten so wichtige Funktionen übernehmen.Gemeinsam erkunden wir im Welt Café Workshop\, was kollektives Erinnern bedeuten kann. \n\n\n\nBegegnungszentrum* TrinitatisfriedhofFiedlerstraße 1\, 01307 DresdenMittwoch\, der 15.10.2025 & Dienstag\, der 28.10.2025Beginn um 15:30UhrDauer ca: 2h*Das Begegnungszentrum befindet sich gegenüber der Trinitatiskirchruine \n\n\n\n—Unterstützt durch: Evangelische Friedhöfewww. kirche-dresden.deevangelische-friedhoefeBilder: Friedrich\, Entrée de cimetière\, 1825 (PD) / „heavy excavator digging day light“\, Designed by Freepik
URL:https://johannisfriedhof-dresden.de/veranstaltung/workshop-reihe-friedhofskultur-ist-das-kultur-oder-kann-das-weg/
LOCATION:Begegnungszentrum Trinitatisfriedhof\, Fiedlerstraße 1\, Dresden\, Sachsen\, 01307\, Deutschland
CATEGORIES:Sonderveranstaltung,Trinitatisfriedhof
ATTACH;FMTTYPE=image/jpeg:https://johannisfriedhof-dresden.de/wp-content/uploads/2025/10/workshop-beitrag.jpg
END:VEVENT
BEGIN:VEVENT
DTSTART;TZID=Europe/Berlin:20251016T143000
DTEND;TZID=Europe/Berlin:20251016T170000
DTSTAMP:20260423T102821
CREATED:20250403T124541Z
LAST-MODIFIED:20250403T124544Z
UID:3522-1760625000-1760634000@johannisfriedhof-dresden.de
SUMMARY:Trinitatisfriedhof: Kaffeenachmittag
DESCRIPTION:Im Begegnungszentrum – Friedhofseingang gegenüber der Trinitatiskirchruine \n\n\n\nEin herzliches Willkommen zu unserem Kaffeenachmittag! Trinken Sie eine Tasse Kaffee oder Tee zu einem Stück selbst gebackenen Kuchen\, kommen Sie mit uns ins Gespräch oder stöbern Sie durch unser Büchertauschregal! \n\n\n\nSich im Miteinander begegnen\, Erlebnisse und Erinnerungen austauschen oder Interessantes erfahren – unser Begegnungszentrum ist ein Ort für den Dialog mit Angehörigen\, Besuchern und Interessierten – eine Verbindung ins Leben über den Tod hinaus. \n\n\n\nFaltblätter und Broschüren zu unseren Friedhöfen sowie der Gottesackerhonig vom Johannisfriedhof können hier erworben werben.
URL:https://johannisfriedhof-dresden.de/veranstaltung/kaffeenachmittag-2-2-2-2-2-2-2-2-2-2/
LOCATION:Begegnungszentrum Trinitatisfriedhof\, Fiedlerstraße 1\, Dresden\, Sachsen\, 01307\, Deutschland
CATEGORIES:Kaffeenachmittag,Trinitatisfriedhof
ATTACH;FMTTYPE=image/jpeg:https://johannisfriedhof-dresden.de/wp-content/uploads/2025/01/offener-mittwoch-geschichten.jpg
END:VEVENT
BEGIN:VEVENT
DTSTART;TZID=Europe/Berlin:20251019T140000
DTEND;TZID=Europe/Berlin:20251019T153000
DTSTAMP:20260423T102821
CREATED:20240319T145624Z
LAST-MODIFIED:20250313T185100Z
UID:3003-1760882400-1760887800@johannisfriedhof-dresden.de
SUMMARY:Sonntagsspaziergang
DESCRIPTION:Mit seinen 25 ha ist der Johannisfriedhof heute der zweitgrößte Friedhof der Landeshauptstadt.Bereits 1881 wurde das erste Grab ausgehoben\, denn durch die Eingemeindungen umliegender Orte und die durch die Industrialisierung stetig wachsende Bevölkerungszahl war ein neuer Friedhof dringend nötig geworden. Der ArchitektPaul Wallot übernahm die Planung des neuen Friedhofs und schuf die imposante Feierhalle (1841-1912). \n\n\n\nBis heute haben ca. 130.000 Dresdnerinnen und Dresdner auf dem Johannisfriedhof ihre letzte Ruhe gefunden – darunter unzählige bedeutende Unternehmerinnen und Unternehmer\, Wissenschaftler\, Künstlerinnen und Künstler sowie Architekten. \n\n\n\nViele der Ruhestätten sind von hohem künstlerischem Wert und stehen unter Denkmalschutz. Beisetzungen von Särgen und Urnen finden bis heute statt.Ein Sonntagsspaziergang mit Andrea Helbig und Karin Dechandt. \n\n\n\n– Der Eintritt ist frei\, um eine Spende wird gebeten.
URL:https://johannisfriedhof-dresden.de/veranstaltung/sonntagsspaziergang-jf-oktober/
LOCATION:Johannisfriedhof Feierhalle (Wallotkapelle)\, Wehlener Straße 13\, Dresden\, Sachsen\, 01279\, Deutschland
CATEGORIES:Johannisfriedhof,Sonderführung
ATTACH;FMTTYPE=image/jpeg:https://johannisfriedhof-dresden.de/wp-content/uploads/2017/12/titelbild_johannisfriedhof.jpg
ORGANIZER;CN="Freundeskreis Trinitatis- und Johannisfriedhof Dresden":MAILTO:kontakt@freundeskreis-trinitatis-und-johannisfriedhof-dresden.de
END:VEVENT
BEGIN:VEVENT
DTSTART;TZID=Europe/Berlin:20251028T153000
DTEND;TZID=Europe/Berlin:20251028T173000
DTSTAMP:20260423T102822
CREATED:20251002T092045Z
LAST-MODIFIED:20251002T092047Z
UID:3656-1761665400-1761672600@johannisfriedhof-dresden.de
SUMMARY:Workshop-Reihe Friedhofskultur: Ist das Kultur oder kann das weg?
DESCRIPTION:Nur mit Anmeldung per Mail: Begegnungszentrum@trinitatisfriedhof-dresden.de \n\n\n\nWie und wo wollen wir in Zukunft Abschied nehmen? Wie wollen wir als Stadt den Toten gedenken? Wie wird sich unsere Erinnerungskultur wandeln?  \n\n\n\nFriedhöfe haben keine Lobby\, sie verschwinden aus der Förderung und Planung\, obwohl sie in unseren Städten so wichtige Funktionen übernehmen.Gemeinsam erkunden wir im Welt Café Workshop\, was kollektives Erinnern bedeuten kann. \n\n\n\nBegegnungszentrum* TrinitatisfriedhofFiedlerstraße 1\, 01307 DresdenMittwoch\, der 15.10.2025 & Dienstag\, der 28.10.2025Beginn um 15:30UhrDauer ca: 2h*Das Begegnungszentrum befindet sich gegenüber der Trinitatiskirchruine \n\n\n\n—Unterstützt durch: Evangelische Friedhöfewww. kirche-dresden.deevangelische-friedhoefeBilder: Friedrich\, Entrée de cimetière\, 1825 (PD) / „heavy excavator digging day light“\, Designed by Freepik
URL:https://johannisfriedhof-dresden.de/veranstaltung/workshop-reihe-friedhofskultur-ist-das-kultur-oder-kann-das-weg-2/
LOCATION:Begegnungszentrum Trinitatisfriedhof\, Fiedlerstraße 1\, Dresden\, Sachsen\, 01307\, Deutschland
CATEGORIES:Sonderveranstaltung,Trinitatisfriedhof
ATTACH;FMTTYPE=image/jpeg:https://johannisfriedhof-dresden.de/wp-content/uploads/2025/10/workshop-beitrag.jpg
END:VEVENT
BEGIN:VEVENT
DTSTART;TZID=Europe/Berlin:20251029T163000
DTEND;TZID=Europe/Berlin:20251029T173000
DTSTAMP:20260423T102822
CREATED:20250122T145517Z
LAST-MODIFIED:20250122T145521Z
UID:3379-1761755400-1761759000@johannisfriedhof-dresden.de
SUMMARY:„Hätte ich Geld\, ich käme niemals heim ...“ – Hans Christian Andersen auf Reisen ... nach Dresden
DESCRIPTION:Ein Vortrag im Begegnungszentrum mit Lutz Reike vom Kügelgenhaus – dem Museum der Dresdner Romantik
URL:https://johannisfriedhof-dresden.de/veranstaltung/offener-mittwoch-im-begegnungszentrum-3-2-2/
LOCATION:Begegnungszentrum Trinitatisfriedhof\, Fiedlerstraße 1\, Dresden\, Sachsen\, 01307\, Deutschland
CATEGORIES:Kaffee Kuchen und Geschichte(n),Trinitatisfriedhof
ATTACH;FMTTYPE=image/jpeg:https://johannisfriedhof-dresden.de/wp-content/uploads/2025/01/veranstaltung-hca02.jpg
END:VEVENT
END:VCALENDAR