BEGIN:VCALENDAR
VERSION:2.0
PRODID:-//Verwaltung des Elias-, Trinitatis- und Johannisfriedhofes zu Dresden - ECPv6.15.12.2//NONSGML v1.0//EN
CALSCALE:GREGORIAN
METHOD:PUBLISH
X-WR-CALNAME:Verwaltung des Elias-, Trinitatis- und Johannisfriedhofes zu Dresden
X-ORIGINAL-URL:https://johannisfriedhof-dresden.de
X-WR-CALDESC:Veranstaltungen für Verwaltung des Elias-, Trinitatis- und Johannisfriedhofes zu Dresden
REFRESH-INTERVAL;VALUE=DURATION:PT1H
X-Robots-Tag:noindex
X-PUBLISHED-TTL:PT1H
BEGIN:VTIMEZONE
TZID:Europe/Berlin
BEGIN:DAYLIGHT
TZOFFSETFROM:+0100
TZOFFSETTO:+0200
TZNAME:CEST
DTSTART:20250330T010000
END:DAYLIGHT
BEGIN:STANDARD
TZOFFSETFROM:+0200
TZOFFSETTO:+0100
TZNAME:CET
DTSTART:20251026T010000
END:STANDARD
BEGIN:DAYLIGHT
TZOFFSETFROM:+0100
TZOFFSETTO:+0200
TZNAME:CEST
DTSTART:20260329T010000
END:DAYLIGHT
BEGIN:STANDARD
TZOFFSETFROM:+0200
TZOFFSETTO:+0100
TZNAME:CET
DTSTART:20261025T010000
END:STANDARD
BEGIN:DAYLIGHT
TZOFFSETFROM:+0100
TZOFFSETTO:+0200
TZNAME:CEST
DTSTART:20270328T010000
END:DAYLIGHT
BEGIN:STANDARD
TZOFFSETFROM:+0200
TZOFFSETTO:+0100
TZNAME:CET
DTSTART:20271031T010000
END:STANDARD
END:VTIMEZONE
BEGIN:VEVENT
DTSTART;TZID=Europe/Berlin:20260308T150000
DTEND;TZID=Europe/Berlin:20260308T170000
DTSTAMP:20260423T013638
CREATED:20260209T134645Z
LAST-MODIFIED:20260209T143616Z
UID:3749-1772982000-1772989200@johannisfriedhof-dresden.de
SUMMARY:Bekannte und unbekannte Frauen auf dem Johannisfriedhof - eine Spurensuche
DESCRIPTION:Feierhalle \n\n\n\n15:00 Uhr Präsentation des neuen Friedhofsplanes „Frauen sichtbar machen – Eine Spurensuche zu Frauengräbern auf dem Johannisfriedhof“Nach langer und intensiver Recherche konnten über 100 Frauen entdeckt werden\, die seit 1881 auf dem Johannisfriedhof bestattet wurden – bekannte Persönlichkeiten ebenso wie Frauen\, deren Geschichten bislang kaum erzählt wurden.In dem Plan lassen sich Frauen finden\, die in den unterschiedlichsten Bereichen gewirkt haben: als Malerinnen\, Schriftstellerinnen\, Sängerinnen\, Ärztinnen\, Architektinnen oder Bildhauerinnen.Konzert der VokallürenDie über 30 Sängerinnen der Vokallüren präsentieren ein abwechslungsreiches Programm von Pop über Gospel\, Weltmusik bis hin zu Jazz und Soul. In mehrstimmigen Arrangements interpretieren sie bekannte deutschsprachige und internationale Klassiker.Im Anschluss Austausch bei Kaffee\, Tee und frisch gebackenen Kuchen. Faltblätter und Broschüren zu unseren Friedhöfen sowie der Gottesackerhonig vom Johannisfriedhof können hier erworben werden. \n\n\n\nDie Veranstaltungen werden ehrenamtlich organisiert und sind kostenfrei.Um Spenden für unsere Förderprojekt wird ausdrücklich gebeten.
URL:https://johannisfriedhof-dresden.de/veranstaltung/bekannte-und-unbekannte-frauen-auf-dem-johannisfriedhof-eine-spurensuche/
LOCATION:Johannisfriedhof Feierhalle (Wallotkapelle)\, Wehlener Straße 13\, Dresden\, Sachsen\, 01279\, Deutschland
CATEGORIES:Johannisfriedhof,Sonderveranstaltung
ATTACH;FMTTYPE=image/jpeg:https://johannisfriedhof-dresden.de/wp-content/uploads/2026/02/veranstaltung01a.jpg
END:VEVENT
BEGIN:VEVENT
DTSTART;TZID=Europe/Berlin:20260320T153000
DTEND;TZID=Europe/Berlin:20260320T173000
DTSTAMP:20260423T013638
CREATED:20260209T142943Z
LAST-MODIFIED:20260223T082659Z
UID:3751-1774020600-1774027800@johannisfriedhof-dresden.de
SUMMARY:Musikalische Gedenkstunde zum 125. Todestag von Gustav Adolf Gunkel
DESCRIPTION:15:30 Uhr „Ohne Musik wäre das Leben ein Irrtum“Eine Führung mit Christian Mögel zu den Ruhestätten bekannter Musikschaffender.Dauer ca. 60 Minuten \n\n\n\n17:00 Uhr in der Feierhalle – Vergessenes Genie – GedenkveranstaltungAm 20. März 1901 ereignete sich in Dresdens Straßenbahn ein dramatischer Mord: Der Konzertmeister der Dresdner Hofkapelle\, der erst 34-jährige Violinist\, Komponist und Frauenschwarm Gunkel\, wurde heimtückisch getötet. Bei seiner Beisetzung auf dem Trinitatisfriedhof brachen zahlreiche junge Frauen in Tränen aus – einige fielensogar in Ohnmacht.Heute ist Gunkel fast vergessen\, viele seiner Werke sind verschollen. Der Musikwissenschaftler Christoph Münch stellt sein unvollendetes Genie und tragisches Ende vor. Gemeinsam mit der Dresdner Gesangspädagogin Susanne Kupfer werden Gunkels „Nachtphantasien Op. 48 – Letzte Lieder“ erstmals wieder in Dresden aufgeführt.Ein Abend für alle\, die Musik nicht nur hören\, sondern erinnern wollen.Dauer ca. 60 MinutenWir öffnen unser Begegnungszentrum von 15:30 bis 17:00 Uhr. Faltblätter und Broschüren zu unseren Friedhöfen sowie der Gottesackerhonig vom Johannisfriedhof können hier erworben werden. \n\n\n\n–Die Veranstaltungen werden ehrenamtlich organisiert und sind kostenfrei.Um Spenden für unser Förderprojekt wird ausdrücklich gebeten.
URL:https://johannisfriedhof-dresden.de/veranstaltung/musikalische-gedenkstunde-zum-125-todestag-vongustav-adolf-gunke/
LOCATION:Trinitatisfriedhof Feierhalle (gegenüber Trinitatiskirchruine)\, Fiedlerstraße 1\, Dresden\, Sachsen\, 01307\, Deutschland
CATEGORIES:Sonderveranstaltung,Trinitatisfriedhof
ATTACH;FMTTYPE=image/jpeg:https://johannisfriedhof-dresden.de/wp-content/uploads/2026/02/veranstaltung02.jpg
END:VEVENT
BEGIN:VEVENT
DTSTART;TZID=Europe/Berlin:20260322T110000
DTEND;TZID=Europe/Berlin:20260322T130000
DTSTAMP:20260423T013638
CREATED:20260209T143605Z
LAST-MODIFIED:20260209T143608Z
UID:3755-1774177200-1774184400@johannisfriedhof-dresden.de
SUMMARY:Dresdner Malerinnen um 1900
DESCRIPTION:Bei dieser Führung begeben wir uns auf Spurensuche nach Malerinnen\, die im 19. und frühen 20. Jahrhundert in Dresden gelebt und gearbeitet haben. Über ihr Wirken und ihre Werke ist nur wenig bekannt\, und viele Namen sind lange im Schatten geblieben.Wir besuchen die Ruhestätten dieser Künstlerinnen auf dem Johannisfriedhof und entdecken\, was über ihre Biografien – persönlich wie beruflich – noch erzählt werden kann. Die Führung lädt dazu ein\, Geschichte sichtbar zu machen und die Frauen hinter den Bildern neu kennenzulernen.Kommen Sie mit auf einen spannenden Spaziergang zwischen Kunst\, Erinnerung und Entdeckung mit Dr. Andreas Dehmer und Beatrice Teichmann.Eine Veranstaltung in Kooperation mit dem Albertinum\, Staatliche Kunstsammlungen Dresden.Dauer ca. 60 – 90 Minuten— \n\n\n\nDie Veranstaltungen werden ehrenamtlich organisiert und sind kostenfrei.Um Spenden für unser Förderprojekt wird ausdrücklich gebeten.—Ausstellungshinweis:„Paula Modersohn-Becker und Edvard Munch. Die großen Fragen des Lebens“Albertinum\, Staatliche Kunstsammlungen DresdenFebruar bis 31. Mai 2026
URL:https://johannisfriedhof-dresden.de/veranstaltung/dresdner-malerinnen-um-1900/
CATEGORIES:Johannisfriedhof
ATTACH;FMTTYPE=image/jpeg:https://johannisfriedhof-dresden.de/wp-content/uploads/2026/02/veranstaltung03.jpg
END:VEVENT
BEGIN:VEVENT
DTSTART;TZID=Europe/Berlin:20260325T140000
DTEND;TZID=Europe/Berlin:20260325T160000
DTSTAMP:20260423T013638
CREATED:20251103T143211Z
LAST-MODIFIED:20251103T143215Z
UID:3665-1774447200-1774454400@johannisfriedhof-dresden.de
SUMMARY:Trinitatisfriedhof: Kaffee\, Kuchen und Geschichte(n)
DESCRIPTION:Besuchen Sie uns! Trinken Sie eine Tasse Kaffee oder Tee\, kommen Sie mit uns ins Gespräch oder stöbern Sie durch unser Büchertauschregal. \n\n\n\nAm Ende unseres Kaffeenachmittages gegen 16 Uhr gibt es Geschichte(n)\, von oder über unsere Friedhöfe oder Wissenswertes aus Archiven\, lassen Sie sich überraschen und seien Sie gespannt. Kleine Führungen sind ebenfalls in der Konzeption.
URL:https://johannisfriedhof-dresden.de/veranstaltung/offener-mittwoch-im-begegnungszentrum-6-5-2/
LOCATION:Begegnungszentrum Trinitatisfriedhof\, Fiedlerstraße 1\, Dresden\, Sachsen\, 01307\, Deutschland
CATEGORIES:Kaffee Kuchen und Geschichte(n),Trinitatisfriedhof
ATTACH;FMTTYPE=image/jpeg:https://johannisfriedhof-dresden.de/wp-content/uploads/2025/02/kaffee-kuchen-geschichten.jpg
END:VEVENT
END:VCALENDAR