BEGIN:VCALENDAR
VERSION:2.0
PRODID:-//Verwaltung des Elias-, Trinitatis- und Johannisfriedhofes zu Dresden - ECPv6.15.12.2//NONSGML v1.0//EN
CALSCALE:GREGORIAN
METHOD:PUBLISH
X-ORIGINAL-URL:https://johannisfriedhof-dresden.de
X-WR-CALDESC:Veranstaltungen für Verwaltung des Elias-, Trinitatis- und Johannisfriedhofes zu Dresden
REFRESH-INTERVAL;VALUE=DURATION:PT1H
X-Robots-Tag:noindex
X-PUBLISHED-TTL:PT1H
BEGIN:VTIMEZONE
TZID:Europe/Berlin
BEGIN:DAYLIGHT
TZOFFSETFROM:+0100
TZOFFSETTO:+0200
TZNAME:CEST
DTSTART:20190331T010000
END:DAYLIGHT
BEGIN:STANDARD
TZOFFSETFROM:+0200
TZOFFSETTO:+0100
TZNAME:CET
DTSTART:20191027T010000
END:STANDARD
BEGIN:DAYLIGHT
TZOFFSETFROM:+0100
TZOFFSETTO:+0200
TZNAME:CEST
DTSTART:20200329T010000
END:DAYLIGHT
BEGIN:STANDARD
TZOFFSETFROM:+0200
TZOFFSETTO:+0100
TZNAME:CET
DTSTART:20201025T010000
END:STANDARD
BEGIN:DAYLIGHT
TZOFFSETFROM:+0100
TZOFFSETTO:+0200
TZNAME:CEST
DTSTART:20210328T010000
END:DAYLIGHT
BEGIN:STANDARD
TZOFFSETFROM:+0200
TZOFFSETTO:+0100
TZNAME:CET
DTSTART:20211031T010000
END:STANDARD
END:VTIMEZONE
BEGIN:VEVENT
DTSTART;TZID=Europe/Berlin:20200213T143000
DTEND;TZID=Europe/Berlin:20200213T160000
DTSTAMP:20260421T203531
CREATED:20190201T090031Z
LAST-MODIFIED:20200201T151731Z
UID:601-1581604200-1581609600@johannisfriedhof-dresden.de
SUMMARY:Gedenkveranstaltung zum 75. Jahrestag des Bombenangriffes auf Dresden
DESCRIPTION:Programm\nGlockengeläut \nMusikstück \nBegrüßung\nBeatrice Teichmann – Friedhofsleiterin \nMusikstück \nGedenken an die Opfer des Bombenangriffs\nvom 13./14. Februar 1945\n„Wir im Krieg“ – Texte\, Gedanken und eigene Beiträge\nder Schüler der 88. Oberschule Dresden-Hosterwitz \nMusikstück \nTotengedenken\nSchüler der 88. Oberschule Dresden-Hosterwitz \nEnthüllung des Grabsteins für Helene von Gersdorff\nHelene von Gersdorff wurde im Alter von 20 Jahren im Rahmen\ndes nationalsozialistischen Euthanasieprogramms 1943 getötet \n  \nIm Rahmen dieser Veranstaltung haben Sie die Möglichkeit\, Kerzen für die Opfer von Krieg und Gewaltherrschaft anzuzünden\, gern können Sie auch Friedenstauben mit Ihren Friedenswünschen beschriften. \n  \n\n  \n„Selig sind die Frieden stiften\, denn sie\nwerden Kinder Gottes heißen (Mt 5\,9)“\nWir sind dankbar\, dass wir 75 Jahre nach dem Bombenangriff\nin Frieden in Dresden leben können. Im Stillen werden wir bescheiden\nder Opfer weiter gedenken und eine neue Frieden stiftende\nVeranstaltung mit unseren nachfolgenden Generationen für die\nZukunft entwickeln. \n\nVeranstalter: \nÄrar des Elias-\, Trinitatis- und Johannisfriedhofes zu Dresden\n88. Oberschule Dresden Hosterwitz
URL:https://johannisfriedhof-dresden.de/veranstaltung/gedenkveranstaltung-zum-75-jahrestag-des-bombenangriffes-auf-dresden/
LOCATION:Johannisfriedhof Feierhalle (Wallotkapelle)\, Wehlener Straße 13\, Dresden\, Sachsen\, 01279\, Deutschland
CATEGORIES:Gedenkveranstaltung 13. Februar,Johannisfriedhof
ATTACH;FMTTYPE=image/jpeg:https://johannisfriedhof-dresden.de/wp-content/uploads/2017/12/33451212_l-scaled.jpg
END:VEVENT
END:VCALENDAR