BEGIN:VCALENDAR
VERSION:2.0
PRODID:-//Verwaltung des Elias-, Trinitatis- und Johannisfriedhofes zu Dresden - ECPv6.15.12.2//NONSGML v1.0//EN
CALSCALE:GREGORIAN
METHOD:PUBLISH
X-ORIGINAL-URL:https://johannisfriedhof-dresden.de
X-WR-CALDESC:Veranstaltungen für Verwaltung des Elias-, Trinitatis- und Johannisfriedhofes zu Dresden
REFRESH-INTERVAL;VALUE=DURATION:PT1H
X-Robots-Tag:noindex
X-PUBLISHED-TTL:PT1H
BEGIN:VTIMEZONE
TZID:Europe/Berlin
BEGIN:DAYLIGHT
TZOFFSETFROM:+0100
TZOFFSETTO:+0200
TZNAME:CEST
DTSTART:20200329T010000
END:DAYLIGHT
BEGIN:STANDARD
TZOFFSETFROM:+0200
TZOFFSETTO:+0100
TZNAME:CET
DTSTART:20201025T010000
END:STANDARD
BEGIN:DAYLIGHT
TZOFFSETFROM:+0100
TZOFFSETTO:+0200
TZNAME:CEST
DTSTART:20210328T010000
END:DAYLIGHT
BEGIN:STANDARD
TZOFFSETFROM:+0200
TZOFFSETTO:+0100
TZNAME:CET
DTSTART:20211031T010000
END:STANDARD
BEGIN:DAYLIGHT
TZOFFSETFROM:+0100
TZOFFSETTO:+0200
TZNAME:CEST
DTSTART:20220327T010000
END:DAYLIGHT
BEGIN:STANDARD
TZOFFSETFROM:+0200
TZOFFSETTO:+0100
TZNAME:CET
DTSTART:20221030T010000
END:STANDARD
END:VTIMEZONE
BEGIN:VEVENT
DTSTART;TZID=Europe/Berlin:20210909T160000
DTEND;TZID=Europe/Berlin:20210909T173000
DTSTAMP:20260425T161848
CREATED:20181206T121204Z
LAST-MODIFIED:20210826T070645Z
UID:1009-1631203200-1631208600@johannisfriedhof-dresden.de
SUMMARY:Johannisfriedhof: Vorsorge ist Fürsorge
DESCRIPTION:Was verbirgt sich hinter einer Grabpatenschaft\, was für Grabarten gibt es\, welche Gebühren fallen im Todesfall an? Während des Rundgangs erfahren Sie nicht nur etwas zur Geschichte unseres Friedhofs\, sondern wir zeigen Ihnen welche Bestattungsmöglichkeiten es auf unserem Friedhof gibt.
URL:https://johannisfriedhof-dresden.de/veranstaltung/kostenlose-fuehrung-das-richtige-grab-3-3/
LOCATION:Johannisfriedhof Feierhalle (Wallotkapelle)\, Wehlener Straße 13\, Dresden\, Sachsen\, 01279\, Deutschland
CATEGORIES:Das richtige Grab,Johannisfriedhof,Vorsorge ist Fürsorge
ATTACH;FMTTYPE=image/jpeg:https://johannisfriedhof-dresden.de/wp-content/uploads/2018/12/vorsorge-fuersorge-jf.jpg
END:VEVENT
END:VCALENDAR